{
 "currentVersion": 11.5,
 "cimVersion": "3.5.0",
 "serviceDescription": "1937 aerial photograph of Fond du Lac and surrounding area.",
 "mapName": "1937_Aerial",
 "description": "1937 aerial photograph of Fond du Lac and surrounding area.",
 "copyrightText": "Fond du Lac County, Land information",
 "supportsDynamicLayers": true,
 "layers": [
  {
   "id": 1,
   "name": "FDLRaster.GISOWNER.AERIAL1937",
   "parentLayerId": -1,
   "defaultVisibility": true,
   "subLayerIds": null,
   "minScale": 0,
   "maxScale": 0,
   "type": "Raster Layer",
   "supportsDynamicLegends": true
  }
 ],
 "tables": [],
 "spatialReference": {
  "wkid": 103419,
  "latestWkid": 103419,
  "xyTolerance": 0.003280833333333333,
  "zTolerance": 0.001,
  "mTolerance": 0.001,
  "falseX": -17646100,
  "falseY": -48340000,
  "xyUnits": 1.3723750315761152E8,
  "falseZ": -100000,
  "zUnits": 10000,
  "falseM": -100000,
  "mUnits": 10000
 },
 "singleFusedMapCache": true,
 "tileInfo": {
  "rows": 512,
  "cols": 512,
  "dpi": 96,
  "format": "PNG",
  "compressionQuality": 0,
  "origin": {
   "x": 670296,
   "y": 466424
  },
  "spatialReference": {
   "wkid": 103419,
   "latestWkid": 103419,
   "vcsWkid": 5703,
   "latestVcsWkid": 5703,
   "xyTolerance": 1.45732759193606E-8,
   "zTolerance": 2.0E-4,
   "mTolerance": 2.0E-4,
   "falseX": -17646100,
   "falseY": -48340000,
   "xyUnits": 1.37237503157612E8,
   "falseZ": -100000,
   "zUnits": 10000,
   "falseM": -100000,
   "mUnits": 10000
  },
  "lods": [
   {
    "level": 0,
    "resolution": 225.694444444444,
    "scale": 260000
   },
   {
    "level": 1,
    "resolution": 133.333333333333,
    "scale": 153600
   },
   {
    "level": 2,
    "resolution": 93.75,
    "scale": 108000
   },
   {
    "level": 3,
    "resolution": 62.5,
    "scale": 72000
   },
   {
    "level": 4,
    "resolution": 46.875,
    "scale": 54000
   },
   {
    "level": 5,
    "resolution": 31.25,
    "scale": 36000
   },
   {
    "level": 6,
    "resolution": 20.8333333333333,
    "scale": 24000
   },
   {
    "level": 7,
    "resolution": 10.4166666666667,
    "scale": 12000
   },
   {
    "level": 8,
    "resolution": 7.29166666666667,
    "scale": 8400
   },
   {
    "level": 9,
    "resolution": 4.16666666666667,
    "scale": 4800
   },
   {
    "level": 10,
    "resolution": 2.08333333333333,
    "scale": 2400
   },
   {
    "level": 11,
    "resolution": 1.04166666666667,
    "scale": 1200
   },
   {
    "level": 12,
    "resolution": 0.520833333333333,
    "scale": 600
   }
  ]
 },
 "storageInfo": {
  "storageFormat": "esriMapCacheStorageModeCompactV2",
  "packetSize": 128
 },
 "initialExtent": {
  "xmin": 795691.7654073753,
  "ymin": 357641.052933546,
  "xmax": 842127.8119190033,
  "ymax": 400286.4017707553,
  "spatialReference": {
   "wkid": 103419,
   "latestWkid": 103419,
   "xyTolerance": 0.003280833333333333,
   "zTolerance": 0.001,
   "mTolerance": 0.001,
   "falseX": -17646100,
   "falseY": -48340000,
   "xyUnits": 1.3723750315761152E8,
   "falseZ": -100000,
   "zUnits": 10000,
   "falseM": -100000,
   "mUnits": 10000
  }
 },
 "fullExtent": {
  "xmin": 797937.1324131893,
  "ymin": 373890.81068548403,
  "xmax": 838502.236579856,
  "ymax": 398172.0606854841,
  "spatialReference": {
   "wkid": 103419,
   "latestWkid": 103419,
   "xyTolerance": 0.003280833333333333,
   "zTolerance": 0.001,
   "mTolerance": 0.001,
   "falseX": -17646100,
   "falseY": -48340000,
   "xyUnits": 1.3723750315761152E8,
   "falseZ": -100000,
   "zUnits": 10000,
   "falseM": -100000,
   "mUnits": 10000
  }
 },
 "datesInUnknownTimezone": false,
 "minScale": 500000,
 "maxScale": 240,
 "minLOD": 0,
 "maxLOD": 12,
 "units": "esriFeet",
 "supportedImageFormatTypes": "PNG32,PNG24,PNG,JPG,DIB,TIFF,EMF,PS,PDF,GIF,SVG,SVGZ,BMP",
 "documentInfo": {
  "Title": "Untitled.aprx",
  "Author": "",
  "Comments": "1937 aerial photograph of Fond du Lac and surrounding area.",
  "Subject": "1937 aerial photograph of Fond du Lac and surrounding area.",
  "Category": "",
  "Version": "2.6.0",
  "AntialiasingMode": "Fast",
  "TextAntialiasingMode": "Force",
  "Keywords": "Fond du Lac,air photo,aerial photography,1937"
 },
 "supportsQueryDomains": true,
 "capabilities": "Map,Query,Data",
 "supportedQueryFormats": "JSON, geoJSON, PBF",
 "exportTilesAllowed": false,
 "referenceScale": 0.0,
 "supportsDatumTransformation": true,
 "archivingInfo": {
  "supportsHistoricMoment": false
 },
 "supportsClipping": true,
 "supportsSpatialFilter": true,
 "supportsTimeRelation": true,
 "supportsQueryDataElements": true,
 "mapUnits": {
  "uwkid": 9003
 },
 "maxSelectionCount": 2000,
 "maxRecordCount": 2000,
 "maxImageHeight": 4096,
 "maxImageWidth": 4096,
 "supportedExtensions": "",
 "resampling": false,
 "serviceItemId": "cd2b06f623d8406e964426588b0eb8d0"
}
