{
 "currentVersion": 11.5,
 "cimVersion": "3.5.0",
 "serviceDescription": "",
 "mapName": "1980_Aerial",
 "description": "",
 "copyrightText": "",
 "supportsDynamicLayers": true,
 "layers": [
  {
   "id": 0,
   "name": "1980 Orthophotography",
   "parentLayerId": -1,
   "defaultVisibility": true,
   "subLayerIds": null,
   "minScale": 36000,
   "maxScale": 0,
   "type": "Raster Layer",
   "supportsDynamicLegends": true
  }
 ],
 "tables": [],
 "spatialReference": {
  "wkid": 103419,
  "latestWkid": 103419,
  "xyTolerance": 0.003280833333333333,
  "zTolerance": 0.001,
  "mTolerance": 0.001,
  "falseX": -17646100,
  "falseY": -48340000,
  "xyUnits": 3048.0060960121928,
  "falseZ": -100000,
  "zUnits": 10000,
  "falseM": -100000,
  "mUnits": 10000
 },
 "singleFusedMapCache": true,
 "tileInfo": {
  "rows": 512,
  "cols": 512,
  "dpi": 96,
  "format": "PNG",
  "compressionQuality": 0,
  "origin": {
   "x": 670296,
   "y": 466424
  },
  "spatialReference": {
   "wkid": 103419,
   "latestWkid": 103419,
   "vcsWkid": 5703,
   "latestVcsWkid": 5703,
   "xyTolerance": 1.45732759193606E-8,
   "zTolerance": 2.0E-4,
   "mTolerance": 2.0E-4,
   "falseX": -17646100,
   "falseY": -48340000,
   "xyUnits": 1.37237503157612E8,
   "falseZ": -100000,
   "zUnits": 10000,
   "falseM": -100000,
   "mUnits": 10000
  },
  "lods": [
   {
    "level": 0,
    "resolution": 225.694444444444,
    "scale": 260000
   },
   {
    "level": 1,
    "resolution": 133.333333333333,
    "scale": 153600
   },
   {
    "level": 2,
    "resolution": 93.75,
    "scale": 108000
   },
   {
    "level": 3,
    "resolution": 62.5,
    "scale": 72000
   },
   {
    "level": 4,
    "resolution": 46.875,
    "scale": 54000
   },
   {
    "level": 5,
    "resolution": 31.25,
    "scale": 36000
   },
   {
    "level": 6,
    "resolution": 20.8333333333333,
    "scale": 24000
   },
   {
    "level": 7,
    "resolution": 10.4166666666667,
    "scale": 12000
   },
   {
    "level": 8,
    "resolution": 7.29166666666667,
    "scale": 8400
   },
   {
    "level": 9,
    "resolution": 4.16666666666667,
    "scale": 4800
   },
   {
    "level": 10,
    "resolution": 2.08333333333333,
    "scale": 2400
   },
   {
    "level": 11,
    "resolution": 1.04166666666667,
    "scale": 1200
   },
   {
    "level": 12,
    "resolution": 0.520833333333333,
    "scale": 600
   }
  ]
 },
 "storageInfo": {
  "storageFormat": "esriMapCacheStorageModeCompactV2",
  "packetSize": 128
 },
 "initialExtent": {
  "xmin": 801255.2224863009,
  "ymin": 364500.3355777741,
  "xmax": 824223.9724863009,
  "ymax": 394031.5855777741,
  "spatialReference": {
   "wkid": 103419,
   "latestWkid": 103419,
   "xyTolerance": 0.003280833333333333,
   "zTolerance": 0.001,
   "mTolerance": 0.001,
   "falseX": -17646100,
   "falseY": -48340000,
   "xyUnits": 3048.0060960121928,
   "falseZ": -100000,
   "zUnits": 10000,
   "falseM": -100000,
   "mUnits": 10000
  }
 },
 "fullExtent": {
  "xmin": 700747.427,
  "ymin": 300083.776,
  "xmax": 893204.427,
  "ymax": 449144.776,
  "spatialReference": {
   "wkid": 103419,
   "latestWkid": 103419,
   "xyTolerance": 0.003280833333333333,
   "zTolerance": 0.001,
   "mTolerance": 0.001,
   "falseX": -17646100,
   "falseY": -48340000,
   "xyUnits": 3048.0060960121928,
   "falseZ": -100000,
   "zUnits": 10000,
   "falseM": -100000,
   "mUnits": 10000
  }
 },
 "datesInUnknownTimezone": false,
 "minScale": 500000,
 "maxScale": 240,
 "units": "esriFeet",
 "supportedImageFormatTypes": "PNG32,PNG24,PNG,JPG,DIB,TIFF,EMF,PS,PDF,GIF,SVG,SVGZ,BMP",
 "documentInfo": {
  "Title": "1980 Aerial Photography",
  "Author": "",
  "Comments": "",
  "Subject": "1980 Aerial Photography",
  "Category": "",
  "Version": "2.6.0",
  "AntialiasingMode": "Fast",
  "TextAntialiasingMode": "Force",
  "Keywords": "1980,Aerial,Ortho,Fond du Lac County"
 },
 "supportsQueryDomains": true,
 "capabilities": "Map,Query,Data",
 "supportedQueryFormats": "JSON, geoJSON, PBF",
 "exportTilesAllowed": false,
 "referenceScale": 0.0,
 "datumTransformations": [
  {
   "geoTransforms": [
    {
     "wkid": 108001,
     "latestWkid": 1241,
     "transformForward": true,
     "name": "NAD_1927_To_NAD_1983_NADCON"
    }
   ]
  },
  {
   "geoTransforms": [
    {
     "wkid": 108001,
     "latestWkid": 1241,
     "transformForward": false,
     "name": "NAD_1927_To_NAD_1983_NADCON"
    }
   ]
  }
 ],
 "supportsDatumTransformation": true,
 "archivingInfo": {
  "supportsHistoricMoment": false
 },
 "supportsClipping": true,
 "supportsSpatialFilter": true,
 "supportsTimeRelation": true,
 "supportsQueryDataElements": true,
 "mapUnits": {
  "uwkid": 9003
 },
 "maxSelectionCount": 2000,
 "maxRecordCount": 2000,
 "maxImageHeight": 4096,
 "maxImageWidth": 4096,
 "supportedExtensions": "",
 "resampling": false,
 "serviceItemId": "90456a80a0f648a7b2eefadd1697ebac"
}
