{
 "currentVersion": 11.5,
 "cimVersion": "3.5.0",
 "serviceDescription": "In the spring of 2005, 1\"=1666' scale black and white aerial photography was acquired for Fond du Lac County. This project was part of the 2005 Wisconsin Regional Mapping Initiative. This orthophoto image is part of the Fond du Lac County digital orthophotography dataset. The digital orthophotography was prepared from the 1\"=1666' scale aerial photography and rectified to the County's existing DTM (which was prepared through stereo compilation in 2000 by Ayres Associates). Photography captured 4/25/2005 and 5/4/2005. Horizontal positional accuracy Map data compiled to meet 1\"=200' scale National Mapping Accuracy Standards.\n\nIn the spring of 2005, color aerial photography was acquired for the City of Fond du Lac suitable for the production of color orthophotography at a 3-inch ground pixel resolution. This orthophoto image is part of the Fond du Lac County digital orthophotography dataset. Imagery was captured April 2005.\n\nAll other urban areas were captured at 6\" resolution.",
 "mapName": "2005_Ortho",
 "description": "In the spring of 2005, 1\"=1666' scale black and white aerial photography was acquired for Fond du Lac County. This project was part of the 2005 Wisconsin Regional Mapping Initiative. This orthophoto image is part of the Fond du Lac County digital orthophotography dataset. The digital orthophotography was prepared from the 1\"=1666' scale aerial photography and rectified to the County's existing DTM (which was prepared through stereo compilation in 2000 by Ayres Associates). Photography captured 4/25/2005 and 5/4/2005. Horizontal positional accuracy Map data compiled to meet 1\"=200' scale National Mapping Accuracy Standards.\n\nIn the spring of 2005, color aerial photography was acquired for the City of Fond du Lac suitable for the production of color orthophotography at a 3-inch ground pixel resolution. This orthophoto image is part of the Fond du Lac County digital orthophotography dataset. Imagery was captured April 2005.\n\nAll other urban areas were captured at 6\" resolution.",
 "copyrightText": "",
 "supportsDynamicLayers": true,
 "layers": [
  {
   "id": 0,
   "name": "2005 Orthophotography - 3\" pixel - color - City of FDL",
   "parentLayerId": -1,
   "defaultVisibility": true,
   "subLayerIds": null,
   "minScale": 36000,
   "maxScale": 0,
   "type": "Raster Layer",
   "supportsDynamicLegends": true
  },
  {
   "id": 1,
   "name": "2005 Orthophotography - 6\" pixel - urban areas",
   "parentLayerId": -1,
   "defaultVisibility": true,
   "subLayerIds": null,
   "minScale": 36000,
   "maxScale": 0,
   "type": "Raster Layer",
   "supportsDynamicLegends": true
  },
  {
   "id": 2,
   "name": "2005 Orthophotography - 12\" pixel - county",
   "parentLayerId": -1,
   "defaultVisibility": true,
   "subLayerIds": null,
   "minScale": 36000,
   "maxScale": 0,
   "type": "Raster Layer",
   "supportsDynamicLegends": true
  }
 ],
 "tables": [],
 "spatialReference": {
  "wkid": 103419,
  "latestWkid": 103419,
  "xyTolerance": 0.0032808333333333335,
  "zTolerance": 2.0E-4,
  "mTolerance": 2.0E-4,
  "falseX": -17646100,
  "falseY": -48340000,
  "xyUnits": 1.3723750315761152E8,
  "falseZ": -100000,
  "zUnits": 10000,
  "falseM": -100000,
  "mUnits": 10000
 },
 "singleFusedMapCache": true,
 "tileInfo": {
  "rows": 256,
  "cols": 256,
  "dpi": 96,
  "format": "JPEG",
  "compressionQuality": 90,
  "origin": {
   "x": 670296,
   "y": 466424
  },
  "spatialReference": {
   "wkid": 103419,
   "latestWkid": 103419,
   "xyTolerance": 0.0032808333333333335,
   "zTolerance": 2.0E-4,
   "mTolerance": 2.0E-4,
   "falseX": -17646100,
   "falseY": -48340000,
   "xyUnits": 1.3723750315761152E8,
   "falseZ": -100000,
   "zUnits": 10000,
   "falseM": -100000,
   "mUnits": 10000
  },
  "lods": [
   {
    "level": 0,
    "resolution": 225.69444444444446,
    "scale": 260000
   },
   {
    "level": 1,
    "resolution": 133.33333333333334,
    "scale": 153600
   },
   {
    "level": 2,
    "resolution": 93.75,
    "scale": 108000
   },
   {
    "level": 3,
    "resolution": 62.50000000000001,
    "scale": 72000
   },
   {
    "level": 4,
    "resolution": 46.875,
    "scale": 54000
   },
   {
    "level": 5,
    "resolution": 31.250000000000004,
    "scale": 36000
   },
   {
    "level": 6,
    "resolution": 20.833333333333336,
    "scale": 24000
   },
   {
    "level": 7,
    "resolution": 10.416666666666668,
    "scale": 12000
   },
   {
    "level": 8,
    "resolution": 7.291666666666667,
    "scale": 8400
   },
   {
    "level": 9,
    "resolution": 4.166666666666667,
    "scale": 4800
   },
   {
    "level": 10,
    "resolution": 2.0833333333333335,
    "scale": 2400
   },
   {
    "level": 11,
    "resolution": 1.0416666666666667,
    "scale": 1200
   },
   {
    "level": 12,
    "resolution": 0.5208333333333334,
    "scale": 600
   }
  ]
 },
 "storageInfo": {
  "storageFormat": "esriMapCacheStorageModeCompact",
  "packetSize": 128
 },
 "initialExtent": {
  "xmin": 796724.0000061605,
  "ymin": 367442.1250030654,
  "xmax": 837661.5000061605,
  "ymax": 396973.3750030654,
  "spatialReference": {
   "wkid": 103419,
   "latestWkid": 103419,
   "xyTolerance": 0.0032808333333333335,
   "zTolerance": 2.0E-4,
   "mTolerance": 2.0E-4,
   "falseX": -17646100,
   "falseY": -48340000,
   "xyUnits": 1.3723750315761152E8,
   "falseZ": -100000,
   "zUnits": 10000,
   "falseM": -100000,
   "mUnits": 10000
  }
 },
 "fullExtent": {
  "xmin": 700269.000008975,
  "ymin": 299700.0000051747,
  "xmax": 893679.0000402816,
  "ymax": 444653.00000095594,
  "spatialReference": {
   "wkid": 103419,
   "latestWkid": 103419,
   "xyTolerance": 0.0032808333333333335,
   "zTolerance": 2.0E-4,
   "mTolerance": 2.0E-4,
   "falseX": -17646100,
   "falseY": -48340000,
   "xyUnits": 1.3723750315761152E8,
   "falseZ": -100000,
   "zUnits": 10000,
   "falseM": -100000,
   "mUnits": 10000
  }
 },
 "datesInUnknownTimezone": false,
 "minScale": 260000,
 "maxScale": 600,
 "maxLOD": 12,
 "units": "esriFeet",
 "supportedImageFormatTypes": "PNG32,PNG24,PNG,JPG,DIB,TIFF,EMF,PS,PDF,GIF,SVG,SVGZ,BMP",
 "documentInfo": {
  "Title": "Layers",
  "Author": "",
  "Comments": "In the spring of 2005, 1\"=1666' scale black and white aerial photography was acquired for Fond du Lac County. This project was part of the 2005 Wisconsin Regional Mapping Initiative. This orthophoto image is part of the Fond du Lac County digital orthophotography dataset. The digital orthophotography was prepared from the 1\"=1666' scale aerial photography and rectified to the County's existing DTM (which was prepared through stereo compilation in 2000 by Ayres Associates). Photography captured 4/25/2005 and 5/4/2005. Horizontal positional accuracy Map data compiled to meet 1\"=200' scale National Mapping Accuracy Standards.\n\nIn the spring of 2005, color aerial photography was acquired for the City of Fond du Lac suitable for the production of color orthophotography at a 3-inch ground pixel resolution. This orthophoto image is part of the Fond du Lac County digital orthophotography dataset. Imagery was captured April 2005.\n\nAll other urban areas were captured at 6\" resolution.",
  "Subject": "2005 Orthophotography - 12\" Countywide, 3\" City of Fond du Lac, 6\" All other urban areas",
  "Category": "",
  "Version": "2.6.0",
  "AntialiasingMode": "Fast",
  "TextAntialiasingMode": "Force",
  "Keywords": "2005"
 },
 "supportsQueryDomains": true,
 "capabilities": "Map",
 "supportedQueryFormats": "JSON, geoJSON, PBF",
 "exportTilesAllowed": false,
 "referenceScale": 0.0,
 "datumTransformations": [
  {
   "geoTransforms": [
    {
     "wkid": 108001,
     "latestWkid": 1241,
     "transformForward": true,
     "name": "NAD_1927_To_NAD_1983_NADCON"
    }
   ]
  },
  {
   "geoTransforms": [
    {
     "wkid": 108001,
     "latestWkid": 1241,
     "transformForward": false,
     "name": "NAD_1927_To_NAD_1983_NADCON"
    }
   ]
  }
 ],
 "supportsDatumTransformation": true,
 "archivingInfo": {
  "supportsHistoricMoment": false
 },
 "supportsClipping": true,
 "supportsSpatialFilter": true,
 "supportsTimeRelation": true,
 "supportsQueryDataElements": true,
 "mapUnits": {
  "uwkid": 9003
 },
 "maxSelectionCount": 2000,
 "maxRecordCount": 1000,
 "maxImageHeight": 4096,
 "maxImageWidth": 4096,
 "supportedExtensions": "",
 "resampling": false,
 "serviceItemId": "6f61eefcafe94e719d1a8b3054e87f43"
}
