{
 "currentVersion": 11.5,
 "cimVersion": "3.5.0",
 "serviceDescription": "Ayres Associates provided Fond du Lac County, Wisconsin, with digital color orthoimagery services in 2015 as part of WROC. The aerial imagery was collected on March 17, 18, 20 and 24, 2015, using a Vexcel UltraCam Eagle sensor mounted in a fixed-wing aircraft. Aerial imagery was collected to support 0.5 foot ground sample distance (GSD) orthoimagery to meet ASPRS Class II horizontal accuracy specifications at 1\u201d = 100' map scale. The horizontal accuracy meets or exceeds 2.0 feet RMSE using the National Standard for Spatial Data Accuracy (NSSDA) standards. Resultant orthoimagery was rectified to the new DEM from an existing LiDAR surface that was created as part of the CDBG funded WROC program. Orthoimagery was delivered in PLSS section GeoTiff and MrSID tiles and a project wide MrSID mosaic. The orthoimagery was delivered according to a section tile schematic. The total project area is 772 square miles, plus a 500-ft buffer around the county boundary. Geographic Description: Fond du Lac County is located in east-central Wisconsin, in the Eastern Ridges and Lowlands area of the state. The county's prime area of urbanization is the City of Fond du Lac, whose northern border is situated on the shores of Lake Winnebago, Wisconsin's largest inland lake. Being one of the primary producers of milk in Wisconsin, the county is comprised of many acres of farmland. Supplemental Information: The Wisconsin Regional Orthophotography Consortium (WROC) is a multi-entity group led by regional planning commissions (RPCs) and WROC representatives from Ayres Associates. The goal of the consortium is to build and sustain a multi-participant program to acquire digital orthoimagery and elevation data throughout Wisconsin. Orthoimagery was collected for Fond du Lac County in 2015 to provide consistent deliverable products and accuracy standards for each of the participating entities.",
 "mapName": "2015_Ortho",
 "description": "Ayres Associates provided Fond du Lac County, Wisconsin, with digital color orthoimagery services in 2015 as part of WROC. The aerial imagery was collected on March 17, 18, 20 and 24, 2015, using a Vexcel UltraCam Eagle sensor mounted in a fixed-wing aircraft. Aerial imagery was collected to support 0.5 foot ground sample distance (GSD) orthoimagery to meet ASPRS Class II horizontal accuracy specifications at 1\u201d = 100' map scale. The horizontal accuracy meets or exceeds 2.0 feet RMSE using the National Standard for Spatial Data Accuracy (NSSDA) standards. Resultant orthoimagery was rectified to the new DEM from an existing LiDAR surface that was created as part of the CDBG funded WROC program. Orthoimagery was delivered in PLSS section GeoTiff and MrSID tiles and a project wide MrSID mosaic. The orthoimagery was delivered according to a section tile schematic. The total project area is 772 square miles, plus a 500-ft buffer around the county boundary. Geographic Description: Fond du Lac County is located in east-central Wisconsin, in the Eastern Ridges and Lowlands area of the state. The county's prime area of urbanization is the City of Fond du Lac, whose northern border is situated on the shores of Lake Winnebago, Wisconsin's largest inland lake. Being one of the primary producers of milk in Wisconsin, the county is comprised of many acres of farmland. Supplemental Information: The Wisconsin Regional Orthophotography Consortium (WROC) is a multi-entity group led by regional planning commissions (RPCs) and WROC representatives from Ayres Associates. The goal of the consortium is to build and sustain a multi-participant program to acquire digital orthoimagery and elevation data throughout Wisconsin. Orthoimagery was collected for Fond du Lac County in 2015 to provide consistent deliverable products and accuracy standards for each of the participating entities.",
 "copyrightText": "",
 "supportsDynamicLayers": true,
 "layers": [
  {
   "id": 0,
   "name": "March 2015 Orthophotography - 6\" pixel resolution",
   "parentLayerId": -1,
   "defaultVisibility": true,
   "subLayerIds": null,
   "minScale": 36000,
   "maxScale": 0,
   "type": "Raster Layer",
   "supportsDynamicLegends": true
  }
 ],
 "tables": [],
 "spatialReference": {
  "wkid": 103419,
  "latestWkid": 103419,
  "vcsWkid": 5703,
  "latestVcsWkid": 5703,
  "xyTolerance": 1.540321480703969E-8,
  "zTolerance": 2.0E-4,
  "mTolerance": 2.0E-4,
  "falseX": -17646100,
  "falseY": -48340000,
  "xyUnits": 1.3723750315761152E8,
  "falseZ": -100000,
  "zUnits": 10000,
  "falseM": -100000,
  "mUnits": 10000
 },
 "singleFusedMapCache": true,
 "tileInfo": {
  "rows": 256,
  "cols": 256,
  "dpi": 96,
  "format": "JPEG",
  "compressionQuality": 90,
  "origin": {
   "x": -17646100,
   "y": 1.7292199999999993E7
  },
  "spatialReference": {
   "wkid": 103419,
   "latestWkid": 103419,
   "vcsWkid": 5703,
   "latestVcsWkid": 5703,
   "xyTolerance": 1.540321480703969E-8,
   "zTolerance": 2.0E-4,
   "mTolerance": 2.0E-4,
   "falseX": -17646100,
   "falseY": -48340000,
   "xyUnits": 1.3723750315761152E8,
   "falseZ": -100000,
   "zUnits": 10000,
   "falseM": -100000,
   "mUnits": 10000
  },
  "lods": [
   {
    "level": 0,
    "resolution": 434.02777777777777,
    "scale": 500000
   },
   {
    "level": 1,
    "resolution": 225.69444444444443,
    "scale": 260000
   },
   {
    "level": 2,
    "resolution": 133.33333333333331,
    "scale": 153600
   },
   {
    "level": 3,
    "resolution": 93.75,
    "scale": 108000
   },
   {
    "level": 4,
    "resolution": 62.5,
    "scale": 72000
   },
   {
    "level": 5,
    "resolution": 46.875,
    "scale": 54000
   },
   {
    "level": 6,
    "resolution": 31.25,
    "scale": 36000
   },
   {
    "level": 7,
    "resolution": 20.833333333333332,
    "scale": 24000
   },
   {
    "level": 8,
    "resolution": 10.416666666666666,
    "scale": 12000
   },
   {
    "level": 9,
    "resolution": 7.291666666666666,
    "scale": 8400
   },
   {
    "level": 10,
    "resolution": 4.166666666666666,
    "scale": 4800
   },
   {
    "level": 11,
    "resolution": 2.083333333333333,
    "scale": 2400
   },
   {
    "level": 12,
    "resolution": 1.0416666666666665,
    "scale": 1200
   },
   {
    "level": 13,
    "resolution": 0.5208333333333333,
    "scale": 600
   }
  ]
 },
 "storageInfo": {
  "storageFormat": "esriMapCacheStorageModeCompact",
  "packetSize": 128
 },
 "initialExtent": {
  "xmin": 801724.288803934,
  "ymin": 367748.3393083917,
  "xmax": 833880.538803934,
  "ymax": 397279.5893083917,
  "spatialReference": {
   "wkid": 103419,
   "latestWkid": 103419,
   "vcsWkid": 5703,
   "latestVcsWkid": 5703,
   "xyTolerance": 1.540321480703969E-8,
   "zTolerance": 2.0E-4,
   "mTolerance": 2.0E-4,
   "falseX": -17646100,
   "falseY": -48340000,
   "xyUnits": 1.3723750315761152E8,
   "falseZ": -100000,
   "zUnits": 10000,
   "falseM": -100000,
   "mUnits": 10000
  }
 },
 "fullExtent": {
  "xmin": 698917.3885945852,
  "ymin": 288400.22445536865,
  "xmax": 894924.3330390297,
  "ymax": 456282.168899813,
  "spatialReference": {
   "wkid": 103419,
   "latestWkid": 103419,
   "vcsWkid": 5703,
   "latestVcsWkid": 5703,
   "xyTolerance": 1.540321480703969E-8,
   "zTolerance": 2.0E-4,
   "mTolerance": 2.0E-4,
   "falseX": -17646100,
   "falseY": -48340000,
   "xyUnits": 1.3723750315761152E8,
   "falseZ": -100000,
   "zUnits": 10000,
   "falseM": -100000,
   "mUnits": 10000
  }
 },
 "datesInUnknownTimezone": false,
 "minScale": 500000,
 "maxScale": 240,
 "units": "esriFeet",
 "supportedImageFormatTypes": "PNG32,PNG24,PNG,JPG,DIB,TIFF,EMF,PS,PDF,GIF,SVG,SVGZ,BMP",
 "documentInfo": {
  "Title": "Layers",
  "Author": "",
  "Comments": "Ayres Associates provided Fond du Lac County, Wisconsin, with digital color orthoimagery services in 2015 as part of WROC. The aerial imagery was collected on March 17, 18, 20 and 24, 2015, using a Vexcel UltraCam Eagle sensor mounted in a fixed-wing aircraft. Aerial imagery was collected to support 0.5 foot ground sample distance (GSD) orthoimagery to meet ASPRS Class II horizontal accuracy specifications at 1\u201d = 100' map scale. The horizontal accuracy meets or exceeds 2.0 feet RMSE using the National Standard for Spatial Data Accuracy (NSSDA) standards. Resultant orthoimagery was rectified to the new DEM from an existing LiDAR surface that was created as part of the CDBG funded WROC program. Orthoimagery was delivered in PLSS section GeoTiff and MrSID tiles and a project wide MrSID mosaic. The orthoimagery was delivered according to a section tile schematic. The total project area is 772 square miles, plus a 500-ft buffer around the county boundary. Geographic Description: Fond du Lac County is located in east-central Wisconsin, in the Eastern Ridges and Lowlands area of the state. The county's prime area of urbanization is the City of Fond du Lac, whose northern border is situated on the shores of Lake Winnebago, Wisconsin's largest inland lake. Being one of the primary producers of milk in Wisconsin, the county is comprised of many acres of farmland. Supplemental Information: The Wisconsin Regional Orthophotography Consortium (WROC) is a multi-entity group led by regional planning commissions (RPCs) and WROC representatives from Ayres Associates. The goal of the consortium is to build and sustain a multi-participant program to acquire digital orthoimagery and elevation data throughout Wisconsin. Orthoimagery was collected for Fond du Lac County in 2015 to provide consistent deliverable products and accuracy standards for each of the participating entities.",
  "Subject": "March 2015 Orthophotography - 6\"",
  "Category": "",
  "Version": "2.6.0",
  "AntialiasingMode": "Fast",
  "TextAntialiasingMode": "Force",
  "Keywords": "basemap,Fond du Lac County,2015,Ortho"
 },
 "supportsQueryDomains": true,
 "capabilities": "Map,Query,Data",
 "supportedQueryFormats": "JSON, geoJSON, PBF",
 "exportTilesAllowed": false,
 "referenceScale": 0.0,
 "datumTransformations": [
  {
   "geoTransforms": [
    {
     "wkid": 108001,
     "latestWkid": 1241,
     "transformForward": true,
     "name": "NAD_1927_To_NAD_1983_NADCON"
    }
   ]
  },
  {
   "geoTransforms": [
    {
     "wkid": 108001,
     "latestWkid": 1241,
     "transformForward": false,
     "name": "NAD_1927_To_NAD_1983_NADCON"
    }
   ]
  }
 ],
 "supportsDatumTransformation": true,
 "heightModelInfo": {
  "heightModel": "gravity_related_height",
  "vertCRS": "NAVD_1988",
  "heightUnit": "meter"
 },
 "supportsVCSProjection": true,
 "archivingInfo": {
  "supportsHistoricMoment": false
 },
 "supportsClipping": true,
 "supportsSpatialFilter": true,
 "supportsTimeRelation": true,
 "supportsQueryDataElements": true,
 "mapUnits": {
  "uwkid": 9003
 },
 "maxSelectionCount": 2000,
 "maxRecordCount": 2000,
 "maxImageHeight": 4096,
 "maxImageWidth": 4096,
 "supportedExtensions": "",
 "resampling": false,
 "serviceItemId": "ba3f0d082e7d43be831c384a7627308a"
}
