{
 "currentVersion": 11.5,
 "cimVersion": "3.5.0",
 "serviceDescription": "2020 Orthophoto. Spring 2020. 6 inch pixel resolution.",
 "mapName": "2020_Orthophoto",
 "description": "2020 Orthophoto. Spring 2020. 6 inch pixel resolution.",
 "copyrightText": "Fond du Lac County, Ayres",
 "supportsDynamicLayers": true,
 "layers": [
  {
   "id": 0,
   "name": "2020_Ortho",
   "parentLayerId": -1,
   "defaultVisibility": true,
   "subLayerIds": null,
   "minScale": 500000,
   "maxScale": 0,
   "type": "Raster Layer",
   "supportsDynamicLegends": true
  }
 ],
 "tables": [],
 "spatialReference": {
  "wkid": 103419,
  "latestWkid": 103419,
  "xyTolerance": 0.003280833333333333,
  "zTolerance": 2.0E-4,
  "mTolerance": 2.0E-4,
  "falseX": -17646100,
  "falseY": -48340000,
  "xyUnits": 1.3723750315761152E8,
  "falseZ": -100000,
  "zUnits": 10000,
  "falseM": -100000,
  "mUnits": 10000
 },
 "singleFusedMapCache": true,
 "tileInfo": {
  "rows": 256,
  "cols": 256,
  "dpi": 96,
  "format": "JPEG",
  "compressionQuality": 90,
  "origin": {
   "x": -17646100,
   "y": 17292200
  },
  "spatialReference": {
   "wkid": 103419,
   "latestWkid": 103419,
   "xyTolerance": 0.003280833333333333,
   "zTolerance": 2.0E-4,
   "mTolerance": 2.0E-4,
   "falseX": -17646100,
   "falseY": -48340000,
   "xyUnits": 1.3723750315761152E8,
   "falseZ": -100000,
   "zUnits": 10000,
   "falseM": -100000,
   "mUnits": 10000
  },
  "lods": [
   {
    "level": 0,
    "resolution": 434.02777777777777,
    "scale": 500000
   },
   {
    "level": 1,
    "resolution": 225.69444444444443,
    "scale": 260000
   },
   {
    "level": 2,
    "resolution": 133.33333333333331,
    "scale": 153600
   },
   {
    "level": 3,
    "resolution": 93.75,
    "scale": 108000
   },
   {
    "level": 4,
    "resolution": 62.5,
    "scale": 72000
   },
   {
    "level": 5,
    "resolution": 46.875,
    "scale": 54000
   },
   {
    "level": 6,
    "resolution": 31.25,
    "scale": 36000
   },
   {
    "level": 7,
    "resolution": 20.833333333333332,
    "scale": 24000
   },
   {
    "level": 8,
    "resolution": 10.416666666666666,
    "scale": 12000
   },
   {
    "level": 9,
    "resolution": 7.291666666666666,
    "scale": 8400
   },
   {
    "level": 10,
    "resolution": 4.166666666666666,
    "scale": 4800
   },
   {
    "level": 11,
    "resolution": 2.083333333333333,
    "scale": 2400
   },
   {
    "level": 12,
    "resolution": 1.0416666666666665,
    "scale": 1200
   },
   {
    "level": 13,
    "resolution": 0.5208333333333333,
    "scale": 600
   }
  ]
 },
 "storageInfo": {
  "storageFormat": "esriMapCacheStorageModeCompactV2",
  "packetSize": 128
 },
 "initialExtent": {
  "xmin": 682230.4969250292,
  "ymin": 256764.82849037484,
  "xmax": 914470.0802583625,
  "ymax": 470046.07849037484,
  "spatialReference": {
   "wkid": 103419,
   "latestWkid": 103419,
   "xyTolerance": 0.003280833333333333,
   "zTolerance": 2.0E-4,
   "mTolerance": 2.0E-4,
   "falseX": -17646100,
   "falseY": -48340000,
   "xyUnits": 1.3723750315761152E8,
   "falseZ": -100000,
   "zUnits": 10000,
   "falseM": -100000,
   "mUnits": 10000
  }
 },
 "fullExtent": {
  "xmin": 700186.576804325,
  "ymin": 299676.124990385,
  "xmax": 893583.076804325,
  "ymax": 444797.624990385,
  "spatialReference": {
   "wkid": 103419,
   "latestWkid": 103419,
   "xyTolerance": 0.003280833333333333,
   "zTolerance": 2.0E-4,
   "mTolerance": 2.0E-4,
   "falseX": -17646100,
   "falseY": -48340000,
   "xyUnits": 1.3723750315761152E8,
   "falseZ": -100000,
   "zUnits": 10000,
   "falseM": -100000,
   "mUnits": 10000
  }
 },
 "datesInUnknownTimezone": false,
 "minScale": 500000,
 "maxScale": 240,
 "units": "esriFeet",
 "supportedImageFormatTypes": "PNG32,PNG24,PNG,JPG,DIB,TIFF,EMF,PS,PDF,GIF,SVG,SVGZ,BMP",
 "documentInfo": {
  "Title": "Untitled.aprx",
  "Author": "",
  "Comments": "2020 Orthophoto. Spring 2020. 6 inch pixel resolution.",
  "Subject": "2020 orthophoto",
  "Category": "",
  "Version": "2.6.0",
  "AntialiasingMode": "Fast",
  "TextAntialiasingMode": "Force",
  "Keywords": "Orhto,Imagery,Air Photo,Fond du Lac County,2020"
 },
 "supportsQueryDomains": true,
 "capabilities": "Map,Query,Data",
 "supportedQueryFormats": "JSON, geoJSON, PBF",
 "exportTilesAllowed": false,
 "referenceScale": 0.0,
 "supportsDatumTransformation": true,
 "archivingInfo": {
  "supportsHistoricMoment": false
 },
 "supportsClipping": true,
 "supportsSpatialFilter": true,
 "supportsTimeRelation": true,
 "supportsQueryDataElements": true,
 "mapUnits": {
  "uwkid": 9003
 },
 "maxSelectionCount": 2000,
 "maxRecordCount": 2000,
 "maxImageHeight": 4096,
 "maxImageWidth": 4096,
 "supportedExtensions": "",
 "resampling": false,
 "serviceItemId": "9551541b8dfe448985dec547a7c21314"
}
